BEGIN:VCALENDAR
VERSION:2.0
PRODID:-//wp-events-plugin.com//7.2.3.1//EN
TZID:Europe/Berlin
X-WR-TIMEZONE:Europe/Berlin
BEGIN:VEVENT
UID:5@bharatvasi.de
DTSTART;TZID=Europe/Berlin:20240413T150000
DTEND;TZID=Europe/Berlin:20240413T200000
DTSTAMP:20240412T132547Z
URL:https://bharatvasi.de/events/bvg-navarshautsav-2024non-members/
SUMMARY:BVG NavarshaUtsav-2024(Non-Members)
DESCRIPTION:Please Note:-\n\n 	 Adult – 10€\n 	 Children  (0-5 yrs) 
 – Free\n 	 Children  (6-15 yrs) - 3€\n 	 Couple  – 12€\n 	 Fa
 mily(2+2) – 15€\n 	Student - 5€\n 	 Food and beverages are not incl
 uded in the Entry ticket price but can be purchased at the venue..\n 	 Ou
 tside Food is not allowed.\n\nPayment Method:-\nEntry Ticket can be purcha
 sed via PayPal or Online Bank Transfer to the below account:-\n\nPayPal:\n
 Scan below QR code and pay using PayPal App with your Phone.\n\n\nOnline B
 ank Transfer:\nKontoinhaber: Bharat Vasi Germany e.V.\nIBAN: DE21 5109 00
 00 0006 9393 09\nBank: Wiesbaden Volksbank\nBIC: WIBADE5WXXX\n\nNOTE:- Y
 ou will receive Booking confirmation email once the payment is credited to
  BVG Account. Please contact us if you did not receive email within 5 days
 .
LOCATION:Volkspark Mainz\, Göttelmannstraße\, Mainz\, 55131\, Germany
X-APPLE-STRUCTURED-LOCATION;VALUE=URI;X-ADDRESS=Göttelmannstraße\, Mainz\
 , 55131\, Germany;X-APPLE-RADIUS=100;X-TITLE=Volkspark Mainz:geo:0,0
END:VEVENT
BEGIN:VTIMEZONE
TZID:Europe/Berlin
X-LIC-LOCATION:Europe/Berlin
BEGIN:DAYLIGHT
DTSTART:20240331T030000
TZOFFSETFROM:+0100
TZOFFSETTO:+0200
TZNAME:CEST
END:DAYLIGHT
END:VTIMEZONE
END:VCALENDAR