BEGIN:VCALENDAR
VERSION:2.0
PRODID:-//wp-events-plugin.com//7.2.3.1//EN
TZID:Europe/Berlin
X-WR-TIMEZONE:Europe/Berlin
BEGIN:VEVENT
UID:4@bharatvasi.de
DTSTART;TZID=Europe/Berlin:20240413T150000
DTEND;TZID=Europe/Berlin:20240413T200000
DTSTAMP:20240412T132639Z
URL:https://bharatvasi.de/events/cultural_fest/
SUMMARY:BVG NAVARSHA UTSAV-2024
DESCRIPTION:Please Note:-\n\n 	Free Entry for Children below 15 years and 2
  Euros for each Adult.\n 	Food and beverages are not included in the Entry
  ticket price but can be purchased at the venue.\n 	Outside Food is not al
 lowed.\n\nPayment Method:-\nEntry Ticket can be purchased via PayPal or On
 line Bank Transfer to the below account:-\n\nPayPal:\nScan below QR code a
 nd pay using PayPal App with your Phone.\n\n\nOnline Bank Transfer:\nKonto
 inhaber: Bharat Vasi Germany e.V.\nIBAN: DE21 5109 0000 0006 9393 09\nBan
 k: Wiesbaden Volksbank\nBIC: WIBADE5WXXX\n\nNOTE:- You will receive Book
 ing confirmation email once the payment is credited to BVG Account. Please
  contact us if you did not receive email within 5 days.
LOCATION:Bürgerhaus Hechtsheim\, Am Heuergrund 8\, Mainz\, 55129 \, German
 y
X-APPLE-STRUCTURED-LOCATION;VALUE=URI;X-ADDRESS=Am Heuergrund 8\, Mainz\, 5
 5129 \, Germany;X-APPLE-RADIUS=100;X-TITLE=Bürgerhaus Hechtsheim:geo:0,0
END:VEVENT
BEGIN:VTIMEZONE
TZID:Europe/Berlin
X-LIC-LOCATION:Europe/Berlin
BEGIN:DAYLIGHT
DTSTART:20240331T030000
TZOFFSETFROM:+0100
TZOFFSETTO:+0200
TZNAME:CEST
END:DAYLIGHT
END:VTIMEZONE
END:VCALENDAR